BEGIN:VCALENDAR
VERSION:2.0
PRODID:http://www.katholisch-in-puettlingen.de
BEGIN:VEVENT
UID:208f410c-3ec3-11f1-a3e9-0242ac11002b-1779802200000-de
DTSTAMP:20260423T031841Z
DTSTART:20260526T133000Z
DTEND:20260526T140000Z
SUMMARY;LANGUAGE=de:Startgebet am Dienstag Kinder-Bibel-Woche der Formatwerkstatt "Einmal Himmel und zurück"
END:VEVENT
END:VCALENDAR
