BEGIN:VCALENDAR
VERSION:2.0
PRODID:http://www.katholisch-in-puettlingen.de
BEGIN:VEVENT
UID:21513188-3ec3-11f1-a3e9-0242ac11002b-1780061400000-de
DTSTAMP:20260423T031842Z
DTSTART:20260529T133000Z
DTEND:20260529T140000Z
SUMMARY;LANGUAGE=de:Startgebet am Freitag Kinder-Bibel-Woche der Formatwerkstatt
END:VEVENT
END:VCALENDAR
