BEGIN:VCALENDAR
VERSION:2.0
PRODID:http://www.katholisch-in-puettlingen.de
BEGIN:VEVENT
UID:21a8041e-3ec3-11f1-a3e9-0242ac11002b-1779984000000-de
DTSTAMP:20260423T031842Z
DTSTART:20260528T160000Z
DTEND:20260528T163000Z
SUMMARY;LANGUAGE=de:Abendgebet
URL:http://www.katholisch-in-puettlingen.de/aktuelles/gottesdienste/gottesdienst/Abendgebet-2026.05.28/
END:VEVENT
END:VCALENDAR
