BEGIN:VCALENDAR
VERSION:2.0
PRODID:http://www.katholisch-in-puettlingen.de
BEGIN:VEVENT
UID:21ebc3e1-3ec3-11f1-a3e9-0242ac11002b-1780068600000-de
DTSTAMP:20260423T031843Z
DTSTART:20260529T153000Z
DTEND:20260529T161500Z
SUMMARY;LANGUAGE=de:Familien-Kirche für alle zum Abschluss der Kinder-Bibel-Woche "Einmal Himmel und zurück" mit anschließendem Begegnungsfest
END:VEVENT
END:VCALENDAR
